BEGIN:VCALENDAR
VERSION:2.0
PRODID:-//Rauman Cheerleadingseura ry | RCS - ECPv6.15.20//NONSGML v1.0//EN
CALSCALE:GREGORIAN
METHOD:PUBLISH
X-ORIGINAL-URL:https://raumancheerleadingseura.fi
X-WR-CALDESC:Tapahtumat Rauman Cheerleadingseura ry | RCS
REFRESH-INTERVAL;VALUE=DURATION:PT1H
X-Robots-Tag:noindex
X-PUBLISHED-TTL:PT1H
BEGIN:VTIMEZONE
TZID:UTC
BEGIN:STANDARD
TZOFFSETFROM:+0000
TZOFFSETTO:+0000
TZNAME:UTC
DTSTART:20240101T000000
END:STANDARD
END:VTIMEZONE
BEGIN:VEVENT
DTSTART;TZID=UTC:20250912T000000
DTEND;TZID=UTC:20250914T235959
DTSTAMP:20260424T224056
CREATED:20250817T094054Z
LAST-MODIFIED:20250911T113025Z
UID:1202-1757635200-1757894399@raumancheerleadingseura.fi
SUMMARY:Spine-leiri Little Mermaids\, Oceanids\, Nereids
DESCRIPTION:CRISU RCS:n hallilla \n\n\n\nLeirille osallistuu: \n\n\n\nPe:Klo 15.30-17.30 Little MermaidsKlo 17.30-19.30 OceanidsKlo 19.30-21.30 Nereids \n\n\n\nLa:Klo 10-13 OceanidsKlo 13.30-16.30 NereidsKlo 17-20 Little Mermaids \n\n\n\nSu:Klo 9-11.30 NereidsKlo 12-14.30 Little MermaidsKlo 14.30-17 Oceanids
URL:https://raumancheerleadingseura.fi/index.php/event/spine-leiri-rcsn-hallilla/
CATEGORIES:Leiri
ATTACH;FMTTYPE=image/jpeg:https://raumancheerleadingseura.fi/wp-content/uploads/2024/07/cropped-cropped-RCS-kopio-2-scaled-1.jpg
ORGANIZER;CN="Rauman Cheerleadingseura ry":MAILTO:hallitus.rcs@gmail.com
END:VEVENT
END:VCALENDAR