BEGIN:VCALENDAR
VERSION:2.0
PRODID:-//Rauman Cheerleadingseura ry | RCS - ECPv6.15.20//NONSGML v1.0//EN
CALSCALE:GREGORIAN
METHOD:PUBLISH
X-ORIGINAL-URL:https://raumancheerleadingseura.fi
X-WR-CALDESC:Tapahtumat Rauman Cheerleadingseura ry | RCS
REFRESH-INTERVAL;VALUE=DURATION:PT1H
X-Robots-Tag:noindex
X-PUBLISHED-TTL:PT1H
BEGIN:VTIMEZONE
TZID:UTC
BEGIN:STANDARD
TZOFFSETFROM:+0000
TZOFFSETTO:+0000
TZNAME:UTC
DTSTART:20240101T000000
END:STANDARD
END:VTIMEZONE
BEGIN:VEVENT
DTSTART;TZID=UTC:20251020T000000
DTEND;TZID=UTC:20251024T235959
DTSTAMP:20260424T224035
CREATED:20250817T101553Z
LAST-MODIFIED:20250817T101555Z
UID:1246-1760918400-1761350399@raumancheerleadingseura.fi
SUMMARY:Syysloma
DESCRIPTION:Loma-ajat noudattavat Rauman koulujen loma-aikoja
URL:https://raumancheerleadingseura.fi/index.php/event/syysloma/
CATEGORIES:Loma
END:VEVENT
END:VCALENDAR