BEGIN:VCALENDAR
VERSION:2.0
PRODID:-//Rauman Cheerleadingseura ry | RCS - ECPv6.15.20//NONSGML v1.0//EN
CALSCALE:GREGORIAN
METHOD:PUBLISH
X-ORIGINAL-URL:https://raumancheerleadingseura.fi
X-WR-CALDESC:Tapahtumat Rauman Cheerleadingseura ry | RCS
REFRESH-INTERVAL;VALUE=DURATION:PT1H
X-Robots-Tag:noindex
X-PUBLISHED-TTL:PT1H
BEGIN:VTIMEZONE
TZID:UTC
BEGIN:STANDARD
TZOFFSETFROM:+0000
TZOFFSETTO:+0000
TZNAME:UTC
DTSTART:20240101T000000
END:STANDARD
END:VTIMEZONE
BEGIN:VEVENT
DTSTART;TZID=UTC:20251220T000000
DTEND;TZID=UTC:20260107T235959
DTSTAMP:20260424T161856
CREATED:20250817T101719Z
LAST-MODIFIED:20250817T101720Z
UID:1248-1766188800-1767830399@raumancheerleadingseura.fi
SUMMARY:Joululoma
DESCRIPTION:Loma-ajat noudattavat Rauman koulujen loma-aikoja. \n\n\n\nPoikkeuksena Opistoleiri ennen loppiaista.
URL:https://raumancheerleadingseura.fi/index.php/event/joululoma/
CATEGORIES:Loma
END:VEVENT
BEGIN:VEVENT
DTSTART;TZID=UTC:20260103T000000
DTEND;TZID=UTC:20260104T235959
DTSTAMP:20260424T161856
CREATED:20250817T100759Z
LAST-MODIFIED:20250909T094234Z
UID:1236-1767398400-1767571199@raumancheerleadingseura.fi
SUMMARY:Spine-opistoleiri Sirens\, Mermaids
DESCRIPTION:MIKA Kuortane \n\n\n\nLeirille osallistuu: \n\n\n\nSirens \n\n\n\nMermaids
URL:https://raumancheerleadingseura.fi/index.php/event/spine-opistoleiri-mika-kuortane/
CATEGORIES:Leiri
ATTACH;FMTTYPE=image/jpeg:https://raumancheerleadingseura.fi/wp-content/uploads/2024/07/cropped-cropped-RCS-kopio-2-scaled-1.jpg
ORGANIZER;CN="Rauman Cheerleadingseura ry":MAILTO:hallitus.rcs@gmail.com
END:VEVENT
END:VCALENDAR