BEGIN:VCALENDAR
VERSION:2.0
PRODID:-//Rauman Cheerleadingseura ry | RCS - ECPv6.15.20//NONSGML v1.0//EN
CALSCALE:GREGORIAN
METHOD:PUBLISH
X-WR-CALNAME:Rauman Cheerleadingseura ry | RCS
X-ORIGINAL-URL:https://raumancheerleadingseura.fi
X-WR-CALDESC:Tapahtumat Rauman Cheerleadingseura ry | RCS
REFRESH-INTERVAL;VALUE=DURATION:PT1H
X-Robots-Tag:noindex
X-PUBLISHED-TTL:PT1H
BEGIN:VTIMEZONE
TZID:UTC
BEGIN:STANDARD
TZOFFSETFROM:+0000
TZOFFSETTO:+0000
TZNAME:UTC
DTSTART:20250101T000000
END:STANDARD
END:VTIMEZONE
BEGIN:VEVENT
DTSTART;TZID=UTC:20260207T000000
DTEND;TZID=UTC:20260207T235959
DTSTAMP:20260424T141511
CREATED:20250817T095134Z
LAST-MODIFIED:20250817T095135Z
UID:1213-1770422400-1770508799@raumancheerleadingseura.fi
SUMMARY:Start Länsi - Nokia
DESCRIPTION:Osallistuvat joukkueet: \nLittle Mermaids \nNereids \nOceanids \nTiny Mermaids \nWater Sprites
URL:https://raumancheerleadingseura.fi/index.php/event/start-lansi-nokia/
CATEGORIES:Kilpailu
ATTACH;FMTTYPE=image/jpeg:https://raumancheerleadingseura.fi/wp-content/uploads/2024/07/cropped-cropped-RCS-kopio-2-scaled-1.jpg
END:VEVENT
END:VCALENDAR