BEGIN:VCALENDAR
VERSION:2.0
PRODID:-//Rauman Cheerleadingseura ry | RCS - ECPv6.15.20//NONSGML v1.0//EN
CALSCALE:GREGORIAN
METHOD:PUBLISH
X-ORIGINAL-URL:https://raumancheerleadingseura.fi
X-WR-CALDESC:Tapahtumat Rauman Cheerleadingseura ry | RCS
REFRESH-INTERVAL;VALUE=DURATION:PT1H
X-Robots-Tag:noindex
X-PUBLISHED-TTL:PT1H
BEGIN:VTIMEZONE
TZID:UTC
BEGIN:STANDARD
TZOFFSETFROM:+0000
TZOFFSETTO:+0000
TZNAME:UTC
DTSTART:20240101T000000
END:STANDARD
END:VTIMEZONE
BEGIN:VEVENT
DTSTART;TZID=UTC:20251121T000000
DTEND;TZID=UTC:20251123T235959
DTSTAMP:20260419T184730
CREATED:20250817T101223Z
LAST-MODIFIED:20250909T094141Z
UID:1242-1763683200-1763942399@raumancheerleadingseura.fi
SUMMARY:KAYLEIGH leiri Sirens\, Mermaids\, Little Mermaids
DESCRIPTION:RCS:n hallilla \n\n\n\nLeirille osallistuu: \n\n\n\nSirens \n\n\n\nMermaids \n\n\n\nLittle Mermaids
URL:https://raumancheerleadingseura.fi/index.php/event/kayleigh-leiri-rcsn-hallilla/
CATEGORIES:Leiri
ATTACH;FMTTYPE=image/jpeg:https://raumancheerleadingseura.fi/wp-content/uploads/2024/07/cropped-cropped-RCS-kopio-2-scaled-1.jpg
ORGANIZER;CN="Rauman Cheerleadingseura ry":MAILTO:hallitus.rcs@gmail.com
END:VEVENT
BEGIN:VEVENT
DTSTART;TZID=UTC:20251114T000000
DTEND;TZID=UTC:20251116T235959
DTSTAMP:20260419T184730
CREATED:20250817T100611Z
LAST-MODIFIED:20250909T094057Z
UID:1233-1763078400-1763337599@raumancheerleadingseura.fi
SUMMARY:Spine-leiri Tiny Mermaids\, Oceanids\, Nereids
DESCRIPTION:CRISU RCS:n hallilla \n\n\n\nLeirille osallistuu: \n\n\n\nTiny Mermaids \n\n\n\nOceanids \n\n\n\nNereids
URL:https://raumancheerleadingseura.fi/index.php/event/spine-leiri-crisu-rcsn-hallilla/
CATEGORIES:Leiri
ATTACH;FMTTYPE=image/jpeg:https://raumancheerleadingseura.fi/wp-content/uploads/2024/07/cropped-cropped-RCS-kopio-2-scaled-1.jpg
ORGANIZER;CN="Rauman Cheerleadingseura ry":MAILTO:hallitus.rcs@gmail.com
END:VEVENT
BEGIN:VEVENT
DTSTART;TZID=UTC:20251020T000000
DTEND;TZID=UTC:20251024T235959
DTSTAMP:20260419T184730
CREATED:20250817T101553Z
LAST-MODIFIED:20250817T101555Z
UID:1246-1760918400-1761350399@raumancheerleadingseura.fi
SUMMARY:Syysloma
DESCRIPTION:Loma-ajat noudattavat Rauman koulujen loma-aikoja
URL:https://raumancheerleadingseura.fi/index.php/event/syysloma/
CATEGORIES:Loma
END:VEVENT
BEGIN:VEVENT
DTSTART;TZID=UTC:20251011T000000
DTEND;TZID=UTC:20251012T235959
DTSTAMP:20260419T184730
CREATED:20250817T100435Z
LAST-MODIFIED:20250909T093943Z
UID:1231-1760140800-1760313599@raumancheerleadingseura.fi
SUMMARY:Spine-opistoleiri Sirens\, Mermaids
DESCRIPTION:FANNY Kuortane \n\n\n\nLeirille osallistuu: \n\n\n\nSirens \n\n\n\nMermaids
URL:https://raumancheerleadingseura.fi/index.php/event/spine-opistoleiri-fanny-kuortane/
CATEGORIES:Leiri
ATTACH;FMTTYPE=image/jpeg:https://raumancheerleadingseura.fi/wp-content/uploads/2024/07/cropped-cropped-RCS-kopio-2-scaled-1.jpg
ORGANIZER;CN="Rauman Cheerleadingseura ry":MAILTO:hallitus.rcs@gmail.com
END:VEVENT
BEGIN:VEVENT
DTSTART;TZID=UTC:20250920T000000
DTEND;TZID=UTC:20250921T235959
DTSTAMP:20260419T184730
CREATED:20250817T100300Z
LAST-MODIFIED:20250911T113008Z
UID:1229-1758326400-1758499199@raumancheerleadingseura.fi
SUMMARY:Spine-leiri Tiny Mermaids\, Water Sprites
DESCRIPTION:NELMA RCS:n hallilla \n\n\n\nLeirille osallistuu: \n\n\n\nLa:10-14 Water Sprites (sisältää evästauon)14.30-18.30 Tiny Mermaids (sisältää evästauon \n\n\n\nSu:9-12.30 Tiny Mermaids (sisältää evästauon)13-16.30 Water Sprites (sisältää evästauon)
URL:https://raumancheerleadingseura.fi/index.php/event/spine-leiri-nelma-rcsn-hallilla/
CATEGORIES:Leiri
ATTACH;FMTTYPE=image/jpeg:https://raumancheerleadingseura.fi/wp-content/uploads/2024/07/cropped-cropped-RCS-kopio-2-scaled-1.jpg
END:VEVENT
BEGIN:VEVENT
DTSTART;TZID=UTC:20250912T000000
DTEND;TZID=UTC:20250914T235959
DTSTAMP:20260419T184730
CREATED:20250817T094054Z
LAST-MODIFIED:20250911T113025Z
UID:1202-1757635200-1757894399@raumancheerleadingseura.fi
SUMMARY:Spine-leiri Little Mermaids\, Oceanids\, Nereids
DESCRIPTION:CRISU RCS:n hallilla \n\n\n\nLeirille osallistuu: \n\n\n\nPe:Klo 15.30-17.30 Little MermaidsKlo 17.30-19.30 OceanidsKlo 19.30-21.30 Nereids \n\n\n\nLa:Klo 10-13 OceanidsKlo 13.30-16.30 NereidsKlo 17-20 Little Mermaids \n\n\n\nSu:Klo 9-11.30 NereidsKlo 12-14.30 Little MermaidsKlo 14.30-17 Oceanids
URL:https://raumancheerleadingseura.fi/index.php/event/spine-leiri-rcsn-hallilla/
CATEGORIES:Leiri
ATTACH;FMTTYPE=image/jpeg:https://raumancheerleadingseura.fi/wp-content/uploads/2024/07/cropped-cropped-RCS-kopio-2-scaled-1.jpg
ORGANIZER;CN="Rauman Cheerleadingseura ry":MAILTO:hallitus.rcs@gmail.com
END:VEVENT
END:VCALENDAR